BEGIN:VCALENDAR
VERSION:2.0
PRODID:-//Success Center, Inc. - ECPv6.15.20//NONSGML v1.0//EN
CALSCALE:GREGORIAN
METHOD:PUBLISH
X-ORIGINAL-URL:https://www.acesuccess.com
X-WR-CALDESC:Events for Success Center, Inc.
REFRESH-INTERVAL;VALUE=DURATION:PT1H
X-Robots-Tag:noindex
X-PUBLISHED-TTL:PT1H
BEGIN:VTIMEZONE
TZID:America/Los_Angeles
BEGIN:DAYLIGHT
TZOFFSETFROM:-0800
TZOFFSETTO:-0700
TZNAME:PDT
DTSTART:20240310T100000
END:DAYLIGHT
BEGIN:STANDARD
TZOFFSETFROM:-0700
TZOFFSETTO:-0800
TZNAME:PST
DTSTART:20241103T090000
END:STANDARD
BEGIN:DAYLIGHT
TZOFFSETFROM:-0800
TZOFFSETTO:-0700
TZNAME:PDT
DTSTART:20250309T100000
END:DAYLIGHT
BEGIN:STANDARD
TZOFFSETFROM:-0700
TZOFFSETTO:-0800
TZNAME:PST
DTSTART:20251102T090000
END:STANDARD
BEGIN:DAYLIGHT
TZOFFSETFROM:-0800
TZOFFSETTO:-0700
TZNAME:PDT
DTSTART:20260308T100000
END:DAYLIGHT
BEGIN:STANDARD
TZOFFSETFROM:-0700
TZOFFSETTO:-0800
TZNAME:PST
DTSTART:20261101T090000
END:STANDARD
END:VTIMEZONE
BEGIN:VEVENT
DTSTART;TZID=America/Los_Angeles:20250426T080000
DTEND;TZID=America/Los_Angeles:20250427T170000
DTSTAMP:20260423T093358
CREATED:20250211T001955Z
LAST-MODIFIED:20250211T002433Z
UID:10293-1745654400-1745773200@www.acesuccess.com
SUMMARY:Festival Of Books
DESCRIPTION:Come see us during the Festival of Books to receive exclusive discounts and offers! \n 
URL:https://www.acesuccess.com/event/festival-of-books/
LOCATION:USC University Park Campus\, W 34th St\, Los Angeles\, CA\, 90007\, United States
ATTACH;FMTTYPE=image/png:https://www.acesuccess.com/wp-content/uploads/2025/02/Festival-of-Books-Banners.png
END:VEVENT
BEGIN:VEVENT
DTSTART;TZID=America/Los_Angeles:20250312T140000
DTEND;TZID=America/Los_Angeles:20250313T180000
DTSTAMP:20260423T093358
CREATED:20250211T000955Z
LAST-MODIFIED:20250211T002534Z
UID:10286-1741788000-1741888800@www.acesuccess.com
SUMMARY:MegaMix Expo - Santa Anita
DESCRIPTION:Come see us at booth #2380 to receive exclusive discounts and offers! \nThe Expo runs from Wednesday\, March 12\, 2pm – 8pm\, and Thursday\, March 13\, 9am – 6pm
URL:https://www.acesuccess.com/event/megamix-expo-santa-anita/
LOCATION:Santa Anita Park\, 285 W Huntington Dr\, Arcadia\, CA\, 91007\, United States
ATTACH;FMTTYPE=image/png:https://www.acesuccess.com/wp-content/uploads/2025/02/MegaMix-Expo-Booth-Location.png
END:VEVENT
BEGIN:VEVENT
DTSTART;TZID=America/Los_Angeles:20250208T170000
DTEND;TZID=America/Los_Angeles:20250221T174500
DTSTAMP:20260423T093358
CREATED:20250126T234129Z
LAST-MODIFIED:20250127T001533Z
UID:10219-1739034000-1740159900@www.acesuccess.com
SUMMARY:Conscious Life Expo Lecture\, Soulmate Search:  Spiritual & Traditional
DESCRIPTION:Room: Century B\nSoulmate Search: Spiritual & Traditional\n4th generation Matchmaker/Hypnotherapist Terry Lee Brussel-Rogers shares how to meet YOUR Valentine through methods ranging from traditional matchmaking/online dating to Spirit Guide/ Higher Self consultation & Past Life Exploration… ways to meet your special someone at this weekend’s gathering of likeminded spiritual beings! The presentation climaxes in a guided meditation Hypnotic Love Magnet. \nTerry Brussel-Rogers\, Certified Clinical Hypnotherapist\, Director of Success Center since 1969\, and 4th generation matchmaker ran Marriage Minded Introductions for 40 years. She created the Seven Keys to Self Actualization\, a systematic program for reaching your Highest Potential in areas physical\, mental\, emotional\, spiritual & financial. Call (800) Life Mate (543-3628). \nPlease note that a Saturday pass is required to attend this free lecture
URL:https://www.acesuccess.com/event/conscious-life-expo-lecture-soulmate-search-spiritual-traditional/
LOCATION:Conscious Life Expo at LAX Hilton\, 5711 W Century Blvd\, Los Angeles\, California\, 90045
CATEGORIES:Conscious Life Expo
END:VEVENT
BEGIN:VEVENT
DTSTART;TZID=America/Los_Angeles:20250207T130000
DTEND;TZID=America/Los_Angeles:20250209T200000
DTSTAMP:20260423T093358
CREATED:20250127T001450Z
LAST-MODIFIED:20250127T001746Z
UID:10237-1738933200-1739131200@www.acesuccess.com
SUMMARY:Conscious Life Expo
DESCRIPTION:Come join us at the 2025 Conscious Life Expo!\nYou can find Success Center in the International Ballroom at Booth 92\n  \nThe primary intention of the Conscious Life Expo Conference and Exposition is to participate in the conscious co-creation of a new world\, a world based on new paradigms in science\, in spirituality\, in longevity\, in local and global community\, in relationship\, in health\, and well-being. \nAnd while we co-create this new wholistic model through our authentic self-expression\, we also participate in a powerful and passionate celebration of life and love. The Expo is a three-day gathering of the tribes\, a three-day celebration of evolution and consciousness and a three-day brainstorming session on who we are\, where we are\, and where we are going.
URL:https://www.acesuccess.com/event/conscious-life-expo-3/
LOCATION:Conscious Life Expo at LAX Hilton\, 5711 W Century Blvd\, Los Angeles\, California\, 90045
CATEGORIES:Conscious Life Expo
ATTACH;FMTTYPE=image/webp:https://www.acesuccess.com/wp-content/uploads/2025/01/Conscious-Life-Expo-2025.webp
END:VEVENT
BEGIN:VEVENT
DTSTART;TZID=America/Los_Angeles:20250130T163000
DTEND;TZID=America/Los_Angeles:20250130T193000
DTSTAMP:20260423T093358
CREATED:20250119T212918Z
LAST-MODIFIED:20250119T212918Z
UID:10183-1738254600-1738265400@www.acesuccess.com
SUMMARY:Greater San Fernando Valley Chamber of Commerce New Year Mixer & Trade Show
DESCRIPTION:Terry Brussel-Rogers\, Certified Clinical Hypnotherapist and Life/Business Coach since 1969 is the director of Success Center Inc. She has been a member of this Chamber for more than five decades and has been a Captain of Industry Honoree of the Chamber. \nJoin us at this exciting event. Come to our table and enter to win a Life Guidance Discovery Session. $397 value. This includes a goal-setting coaching consultation from which is made a customized road map for getting from where you are to where you want to be in your business and your life\, and a private hypnosis session based on that roadmap to instill in your subconscious mind the clarity of purpose\, the determination and the absolute confidence in yourself necessary to make your goals (and New Years Resolutions) a reality! \nYou can also go to acesuccess.com\, and download as a gift the guided meditation Abundance: Your Money and More Magnet to bring an abundance of health\, wealth\, and joy into your life. Do this by 1-29-25 and mention that you heard about this from the New Year’s Mixer and Trade Show e-mail to be entered in the drawing to win that Life Guidance Discovery Session.\nCall 800-Goal Now (800-462-5669) for more information. \nTo register for the New Year Mixer: Click here to reg online\, or call (818) 989-0300.\nLooking forward to starting a strong 2025 of business with you!\nPlease Visit Our Website at: sanfernandovalleychamber.com
URL:https://www.acesuccess.com/event/greater-san-fernando-valley-chamber-of-commerce-new-year-mixer-trade-show/
LOCATION:Airtel Plaza Hotel\, 7277 Valjean Ave\, Van Nuys\, 91406\, United States
END:VEVENT
END:VCALENDAR